BEGIN:VCALENDAR
VERSION:2.0
PRODID:-//wp-events-plugin.com//7.2.3.1//EN
TZID:Europe/Berlin
X-WR-TIMEZONE:Europe/Berlin
BEGIN:VEVENT
UID:99@haus-mainusch.de
DTSTART;TZID=Europe/Berlin:20260510T100000
DTEND;TZID=Europe/Berlin:20260510T220000
DTSTAMP:20260419T160658Z
URL:https://haus-mainusch.de/events/chico-festival-2/
SUMMARY:CHICO FESTIVAL KOMMT ZURÜCK
DESCRIPTION:ÉCHELE OJO! 👁️ \nÉCHELE OJO! \n\n¡CHICO FESTIVAL VUELVE
  DECONTRUYENDO LO LATINO!  \n\nRegresamos con la tercera edición en Haus 
 Mainusch. Un espacio para encontrarnos\, 🦑compartir 👐🏾y celebrar 
 la cultura latinoamericana desde la música\, el cuerpo y la comunidad.\n\
 nFecha: 10 de mayo 2026\nHorario: 10:00 – 22:00\nLugar: Haus Mainusch\, 
 Mainz\n\nLo que te espera en Chico festival\n\n- Mercado de pulgas 🤹
 🏽💍👘👽( escríbenos un mensaje directo para darte una mesa chiqu
 ita* pero gratis) todos lo que ofreces debe ser trueque o con base de dona
 ción. \n- taller de danza e improvisación 🕺🏼💃🏽👯‍♀️
 🪩\n- comida vegana y una gran comunidad latina 🌈\n\nChico Festival e
 s un espacio en construcción. Te invitamos a deconstruir lo latino desde 
 lo colectivo\, desmarañando lo que nos enseñaron de lo latino. 🦋🐝
 🪩🌷🌻☀️🌸✨🌈🔥\n\nNOSPI y NOS VEMOS!!!\n¡CHICO FESTIVA
 L VUELVE DECONTRUYENDO LO LATINO!  \n\nRegresamos con la tercera edición 
 en Haus Mainusch. Un espacio para encontrarnos\, compartir y celebrar la c
 ultura latinoamericana desde la música\, el cuerpo y la comunidad.\n\n
 🔥Fecha: 10 de mayo 2026\n🔥Horario: 10:00 – 22:00\n🔥Lugar: Haus 
 Mainusch\, Mainz\n\nLo que te espera en Chico festival\n\n- Mercado de pul
 gas ( escríbenos un mensaje directo para darte una mesa chiquita* pero gr
 atis) todos lo que ofreces debe ser trueque o con base de donación. \n- t
 aller de danza e improvisación\n- comida vegana y una gran comunidad lati
 na 🌈\n\nChico Festival es un espacio en construcción. Te invitamos a d
 econstruir lo latino desde lo colectivo\, desmarañando lo que nos enseña
 ron de lo latino. \n\nNOSPI y NOS VEMOS!!!\n\n—————————
 —————-\n\nSCHAU MAL HIN\n\nCHICO FESTIVAL KOMMT ZURÜCK – DEKO
 NSTRUIRUNG VON LO LATINO\n\nWir sind wieder da mit der dritten Edition im 
 Haus Mainusch. Ein Ort\, um zusammenzukommen\, zu teilen und lateinamerika
 nische Kultur durch Musik\, Bewegung und Gemeinschaft zu feiern.\n\nDatum:
  10. Mai 2026\nUhrzeit: 10:00 – 22:00\nOrt: Haus Mainusch\, Mainz\n\nWas
  dich beim Chico Festival erwartet:\n\n– Flohmarkt / Kleidertausch\n(Sch
 reib uns eine DM\, wenn du einen kleinen Tisch willst – kostenlos. Alles
 \, was du anbietest\, sollte auf Tausch oder Spendenbasis sein.)\n\n– Ta
 nz- und Improvisationsworkshop\n\n– Veganes Essen und eine große latein
 amerikanische Community\n\nChico Festival ist ein Raum im Aufbau. Wir lade
 n dich ein\, „lo latino“ gemeinsam zu dekonstruieren und neu zu denken
  – jenseits von dem\, was uns beigebracht wurde.\n\nBis bald – wir seh
 en uns
ATTACH;FMTTYPE=image/jpeg:https://haus-mainusch.de/wp-content/uploads/phot
 o_2026-04-15-17.23.18.jpeg
CATEGORIES:Festival,Konzert,Party
END:VEVENT
BEGIN:VTIMEZONE
TZID:Europe/Berlin
X-LIC-LOCATION:Europe/Berlin
BEGIN:DAYLIGHT
DTSTART:20260329T030000
TZOFFSETFROM:+0100
TZOFFSETTO:+0200
TZNAME:CEST
END:DAYLIGHT
END:VTIMEZONE
END:VCALENDAR