BEGIN:VCALENDAR
VERSION:2.0
PRODID:-//wp-events-plugin.com//7.2.3.1//EN
TZID:Europe/Berlin
X-WR-TIMEZONE:Europe/Berlin
BEGIN:VEVENT
UID:76@haus-mainusch.de
DTSTART;TZID=Europe/Berlin:20260310T170000
DTEND;TZID=Europe/Berlin:20260310T170000
DTSTAMP:20260228T194836Z
URL:https://haus-mainusch.de/events/el-comun-1003/
SUMMARY:El Comun und das Gemeinschaftliche - Der Prozess der Zapatistas zu 
 El Comun und was das für uns hier bedeuten kann
DESCRIPTION:Ganz fern und ganz unterschiedlich von uns sind Zapatistas. Abe
 r etwas haben wir in Gemeinschaft\, unsere Kämpfe sind von Unten und sind
  verbunden. Wir sind alle von demselben Sturm überfallen und nur gemeinsa
 m können wir uns den Tag nach dem Sturm vorstellen. Der Kampf von Zapatis
 tas ist schon alt und erfahren. Seit ihrem Aufstand am 1. Januar 1994 sind
  gute 30 Jahren vergangen. Was können wir da lernen? Was bedeutet ihre Er
 fahrung in unserer Geographie? Darum geht es in unserer Veranstaltung\, ni
 cht bloß informiert zu werden\, sondern Fragen an sich selber zu stellen 
 und zu versuchen sie gemeinsam zu beantworten.
ATTACH;FMTTYPE=image/jpeg:https://haus-mainusch.de/wp-content/uploads/Zapa
 tista.jpg
END:VEVENT
BEGIN:VTIMEZONE
TZID:Europe/Berlin
X-LIC-LOCATION:Europe/Berlin
BEGIN:STANDARD
DTSTART:20251026T020000
TZOFFSETFROM:+0200
TZOFFSETTO:+0100
TZNAME:CET
END:STANDARD
END:VTIMEZONE
END:VCALENDAR