BEGIN:VCALENDAR
VERSION:2.0
PRODID:-//wp-events-plugin.com//7.2.3.1//EN
TZID:Europe/Berlin
X-WR-TIMEZONE:Europe/Berlin
BEGIN:VEVENT
UID:49@haus-mainusch.de
DTSTART;TZID=Europe/Berlin:20251030T220000
DTEND;TZID=Europe/Berlin:20251030T234500
DTSTAMP:20251024T105655Z
URL:https://haus-mainusch.de/events/kneipenabend/
SUMMARY:Kneipenabend + Folksession
DESCRIPTION:Gemütlicher Kneipenabend\, parallel dazu Irish Folk Jamsession
END:VEVENT
BEGIN:VTIMEZONE
TZID:Europe/Berlin
X-LIC-LOCATION:Europe/Berlin
BEGIN:STANDARD
DTSTART:20251026T020000
TZOFFSETFROM:+0200
TZOFFSETTO:+0100
TZNAME:CET
END:STANDARD
END:VTIMEZONE
END:VCALENDAR