BEGIN:VCALENDAR
VERSION:2.0
PRODID:-//wp-events-plugin.com//7.2.3.1//EN
TZID:Europe/Berlin
X-WR-TIMEZONE:Europe/Berlin
BEGIN:VEVENT
UID:51@haus-mainusch.de
DTSTART;TZID=Europe/Berlin:20251205T200000
DTEND;TZID=Europe/Berlin:20251205T200000
DTSTAMP:20251029T133735Z
URL:https://haus-mainusch.de/events/konzert-051225/
SUMMARY:Konzert: Unicorn Partisans & Talie Piraza Kasimir
DESCRIPTION:Unicorn Partisans &amp\; Talie Piraza Kasimir live im Haus Main
 usch\nMukke: https://taliepirazakasimir.bandcamp.com/ &amp\; https://unico
 rnpartisans.bandcamp.com/\nInfos zu Zugang\, Barrieren &amp\; Awareness: h
 ttps://haus-mainusch.de/infos/awarenesskonzept/
ATTACH;FMTTYPE=image/jpeg:https://haus-mainusch.de/wp-content/uploads/unic
 ornpartisans.jpeg
END:VEVENT
BEGIN:VTIMEZONE
TZID:Europe/Berlin
X-LIC-LOCATION:Europe/Berlin
BEGIN:STANDARD
DTSTART:20251026T020000
TZOFFSETFROM:+0200
TZOFFSETTO:+0100
TZNAME:CET
END:STANDARD
END:VTIMEZONE
END:VCALENDAR