BEGIN:VCALENDAR
VERSION:2.0
PRODID:-//wp-events-plugin.com//7.2.3.1//EN
TZID:Europe/Berlin
X-WR-TIMEZONE:Europe/Berlin
BEGIN:VEVENT
UID:79@haus-mainusch.de
DTSTART;TZID=Europe/Berlin:20260321T193000
DTEND;TZID=Europe/Berlin:20260321T193000
DTSTAMP:20260313T134738Z
URL:https://haus-mainusch.de/events/konzert-black-square-blss/
SUMMARY:Konzert Black Square & BL!SS
DESCRIPTION:Hardcore/Noise Rock Konzert mit:\nBlack Square - Hardcore Punk 
 aus NRW https://blacksquarepolitics.bandcamp.com/album/zweifel\nBL!SS - No
 ise Rock Band aus Metz https://www.instagram.com/blisslegroupe/\nWann: Sam
 stag\, 21.03.2025 Einlass 19:30 Wo: Haus Mainusch Staudingerweg 23\, Mainz
 \n\nKonzertraum und Toilette sind nur über Stufen erreichbar\, im Innenra
 um soll während des Konzerts nicht geraucht werden. Wenn ihr Fragen oder 
 Bedürfnisse zu anderen Barrieren habt\, schreibt gerne an keinekonzerte@s
 ystemli.org.
ATTACH;FMTTYPE=image/jpeg:https://haus-mainusch.de/wp-content/uploads/Shar
 epic-BlackSquare-BLSS.jpg
END:VEVENT
BEGIN:VTIMEZONE
TZID:Europe/Berlin
X-LIC-LOCATION:Europe/Berlin
BEGIN:STANDARD
DTSTART:20251026T020000
TZOFFSETFROM:+0200
TZOFFSETTO:+0100
TZNAME:CET
END:STANDARD
END:VTIMEZONE
END:VCALENDAR