BEGIN:VCALENDAR
VERSION:2.0
PRODID:-//wp-events-plugin.com//7.2.3.1//EN
TZID:Europe/Berlin
X-WR-TIMEZONE:Europe/Berlin
BEGIN:VEVENT
UID:77@haus-mainusch.de
DTSTART;TZID=Europe/Berlin:20260308T100000
DTEND;TZID=Europe/Berlin:20260308T113000
DTSTAMP:20260304T183427Z
URL:https://haus-mainusch.de/events/mitbring-brunch-zum-8-maerz/
SUMMARY:Mitbring-Brunch zum 8. März
DESCRIPTION:Am 8. März um 10 Uhr wird eingeladen zum Mitbringbrunch im Hau
 s Mainusch. Kommt gerne vorbei und bringt gerne vegane Snäcks mit\, mehr 
 im Bild.
ATTACH;FMTTYPE=image/jpeg:https://haus-mainusch.de/wp-content/uploads/sign
 al-2026-03-03-18-01-20-686.jpg
END:VEVENT
BEGIN:VTIMEZONE
TZID:Europe/Berlin
X-LIC-LOCATION:Europe/Berlin
BEGIN:STANDARD
DTSTART:20251026T020000
TZOFFSETFROM:+0200
TZOFFSETTO:+0100
TZNAME:CET
END:STANDARD
END:VTIMEZONE
END:VCALENDAR