BEGIN:VCALENDAR
VERSION:2.0
PRODID:-//wp-events-plugin.com//7.2.3.1//EN
TZID:Europe/Berlin
X-WR-TIMEZONE:Europe/Berlin
BEGIN:VEVENT
UID:80@haus-mainusch.de
DTSTART;TZID=Europe/Berlin:20260327T200000
DTEND;TZID=Europe/Berlin:20260327T234500
DTSTAMP:20260325T154322Z
URL:https://haus-mainusch.de/events/moleshows-konzert-quip-loach-morse/
SUMMARY:MoleShows Konzert: Quip\, Loach\, Morse
DESCRIPTION:
ATTACH;FMTTYPE=image/jpeg:https://haus-mainusch.de/wp-content/uploads/quip
 loarch.jpeg
END:VEVENT
BEGIN:VTIMEZONE
TZID:Europe/Berlin
X-LIC-LOCATION:Europe/Berlin
BEGIN:STANDARD
DTSTART:20251026T020000
TZOFFSETFROM:+0200
TZOFFSETTO:+0100
TZNAME:CET
END:STANDARD
END:VTIMEZONE
END:VCALENDAR