BEGIN:VCALENDAR
VERSION:2.0
PRODID:-//wp-events-plugin.com//7.2.3.1//EN
TZID:Europe/Berlin
X-WR-TIMEZONE:Europe/Berlin
BEGIN:VEVENT
UID:48@haus-mainusch.de
DTSTART;TZID=Europe/Berlin:20251018T210000
DTEND;TZID=Europe/Berlin:20251018T220000
DTSTAMP:20251009T134202Z
URL:https://haus-mainusch.de/events/party-equinox-2/
SUMMARY:Party Equinox
DESCRIPTION:EQUINOX 151 X BASSFRONT SAAR\n\nAm 18.10. geht’s in die 3. Ru
 nde im Haus Mainusch – Zu diesem Anlass haben wir unsere Kräfte mit Bas
 sfront Saar vereint\, um unser erstes Kollabo-Event überhaupt zu veransta
 lten!\n\nEuch erwarten also 2 Kollektive auf 2 Floors und damit eine musik
 alische Vielfalt\, die von Trance und Techno bis hin zu DnB und Goa reicht
 .\n\nLOCATION:\n@hausmainusch \, Staudingerweg 23\, 55128 Mainz\n\nSTART:\
 n18.10. | 21 Uhr\n\nKommt vorbei und feiert mit uns!
ATTACH;FMTTYPE=image/jpeg:https://haus-mainusch.de/wp-content/uploads/sign
 al-2025-10-07-144146_002.jpeg
END:VEVENT
BEGIN:VTIMEZONE
TZID:Europe/Berlin
X-LIC-LOCATION:Europe/Berlin
BEGIN:DAYLIGHT
DTSTART:20250330T030000
TZOFFSETFROM:+0100
TZOFFSETTO:+0200
TZNAME:CEST
END:DAYLIGHT
END:VTIMEZONE
END:VCALENDAR