BEGIN:VCALENDAR
VERSION:2.0
PRODID:-//wp-events-plugin.com//7.2.3.1//EN
TZID:Europe/Berlin
X-WR-TIMEZONE:Europe/Berlin
BEGIN:VEVENT
UID:46@haus-mainusch.de
DTSTART;TZID=Europe/Berlin:20251017T190000
DTEND;TZID=Europe/Berlin:20251017T190000
DTSTAMP:20251008T140854Z
URL:https://haus-mainusch.de/events/perspektive-ost-171025/
SUMMARY:Perspektive Ost – Utopien mit Leben füllen
DESCRIPTION:Wie sieht eine bessere Gesellschaft aus – und wo wird sie ber
 eits gelebt?\n„Perspektive Ost“ macht sich auf die Suche nach Antworte
 n. In Sachsen\, Thüringen\, Brandenburg\, Sachsen-Anhalt und Mecklenburg-
 Vorpommern wurden 28 Initiativen besucht\, die sich tagtäglich für eine 
 solidarische\, demokratische Gesellschaft einsetzen. Vom feministischen Fo
 rum\\* in Görlitz über den migrantischen Radiosender speakl_out in Chemn
 itz bis zu den Omas gegen Rechts in Magdeburg oder dem soziokulturellen Ze
 ntrum AK40 in Suhl – sie alle zeigen: Utopien sind keine leeren Worte\, 
 sondern gelebte Praxis.\n\nEntstanden ist daraus ein 30-minütiger Dokumen
 tarfilm und ein umfangreiches Magazin\, das Stimmen vor Ort\, Interviews u
 nd wissenschaftliche Perspektiven vereint. Die Projekte geben inspirierend
 e Einblicke\, wie im ländlichen ostdeutschen Raum an einer offenen\, gere
 chten Zukunft gearbeitet wird.\n\nWas bedeutet eine gesellschaftliche Pers
 pektive im Osten? Wie sieht solidarisches\, demokratisches Handeln konkret
  aus? Welche Utopien werden bereits heute verwirklicht – und was können
  wir daraus lernen?\n\n„Perspektive Ost“ lädt ein zum Hinsehen\, Mitr
 eden und Handeln. Für eine Zukunft\, die nicht utopisch bleibt – sonder
 n real wird. Mehr über Perspektive Ost gibt es hier https://perspektiveos
 t.de
ATTACH;FMTTYPE=image/jpeg:https://haus-mainusch.de/wp-content/uploads/pers
 pektiveost.jpeg
END:VEVENT
BEGIN:VTIMEZONE
TZID:Europe/Berlin
X-LIC-LOCATION:Europe/Berlin
BEGIN:DAYLIGHT
DTSTART:20250330T030000
TZOFFSETFROM:+0100
TZOFFSETTO:+0200
TZNAME:CEST
END:DAYLIGHT
END:VTIMEZONE
END:VCALENDAR