BEGIN:VCALENDAR
VERSION:2.0
PRODID:-//wp-events-plugin.com//7.2.3.1//EN
TZID:Europe/Berlin
X-WR-TIMEZONE:Europe/Berlin
BEGIN:VEVENT
UID:52@haus-mainusch.de
DTSTART;TZID=Europe/Berlin:20251107T230000
DTEND;TZID=Europe/Berlin:20251107T230000
DTSTAMP:20251106T184926Z
URL:https://haus-mainusch.de/events/polterkiste-party/
SUMMARY:Polterkiste Party
DESCRIPTION:Diesen Freitag steht POLTERKISTE @ MAINUSCH an! POLTERKISTE ist
  ein studentisches Kollektiv und freut sich das erste Mal eine Party im Ha
 us Mainusch veranstalten zu dürfen. Es wird 10 DJs auf 2 Floors geben\, d
 ie alles von Speedhouse\, über Trance/Bounce bis Hardtechno spielen werde
 n. Doors open ab 22:00 - kommt früh\, bleibt lang! Der Eintritt ist auf S
 pendenbasis. Eure Spenden supporten ein Frauen-Wohngruppen-Projekt.\nKommt
  wie ihr seid! Respektiert einander!\nKein Platz für Rassismus\, Sexismus
 \, Homophobie oder jegliche andere Form der Diskriminierung!
ATTACH;FMTTYPE=image/jpeg:https://haus-mainusch.de/wp-content/uploads/polt
 erkiste.jpeg
END:VEVENT
BEGIN:VTIMEZONE
TZID:Europe/Berlin
X-LIC-LOCATION:Europe/Berlin
BEGIN:STANDARD
DTSTART:20251026T020000
TZOFFSETFROM:+0200
TZOFFSETTO:+0100
TZNAME:CET
END:STANDARD
END:VTIMEZONE
END:VCALENDAR