BEGIN:VCALENDAR
VERSION:2.0
PRODID:-//wp-events-plugin.com//7.2.3.1//EN
TZID:Europe/Berlin
X-WR-TIMEZONE:Europe/Berlin
BEGIN:VEVENT
UID:45@haus-mainusch.de
DTSTART;TZID=Europe/Berlin:20251228T180000
DTEND;TZID=Europe/Berlin:20251228T200000
DTSTAMP:20250929T154632Z
URL:https://haus-mainusch.de/events/room-care-tag-9/
SUMMARY:Room Care Tag
DESCRIPTION:Room - Care Treffen\nDienstag\, 09. Dezember\nDonnerstag\, 18. 
 Dezember\nSonntag\, 28. Dezember\nab 18 Uhr im Haus Mainusch\n\nJetzt neu 
 in unserem neu in unserem Angebot: Regelmäßige Treffen um bei der Kasche
 mme mal so richtig klar Schiff zu machen!\n\nWir treffen uns gegen 18 Uhr 
 am Haus für so ein\, zwei Stündchen um entspannt zusammen diese ganzen r
 egelmäßigen Raumpflege Aufgaben zu erledigen\; Aufräumen\, Spinnenweben
  wegmachen\, Bierpfützen wegwischen\, Mackertags übermalen\, usw.usf.\, 
 und lassen dann den Abend mit gemeinsamen Chillen ausklingen.\n\nJede Unte
 rstützung ist willkommen\, egal ob du dann gehörig Wischmopp schwingst m
 agst\, oder nur kurz reinschaust um diesen einen Fleck wegzumachen der dic
 h schon immer gestört hat - Kommt gerne vorbei! &lt\;3
END:VEVENT
BEGIN:VTIMEZONE
TZID:Europe/Berlin
X-LIC-LOCATION:Europe/Berlin
BEGIN:STANDARD
DTSTART:20251026T020000
TZOFFSETFROM:+0200
TZOFFSETTO:+0100
TZNAME:CET
END:STANDARD
END:VTIMEZONE
END:VCALENDAR